BEGIN:VCALENDAR
VERSION:2.0
PRODID:-//Rose Hill Chamber of Commerce - ECPv6.15.20//NONSGML v1.0//EN
CALSCALE:GREGORIAN
METHOD:PUBLISH
X-WR-CALNAME:Rose Hill Chamber of Commerce
X-ORIGINAL-URL:https://rosehillchamber.org
X-WR-CALDESC:Events for Rose Hill Chamber of Commerce
REFRESH-INTERVAL;VALUE=DURATION:PT1H
X-Robots-Tag:noindex
X-PUBLISHED-TTL:PT1H
BEGIN:VTIMEZONE
TZID:America/Chicago
BEGIN:DAYLIGHT
TZOFFSETFROM:-0600
TZOFFSETTO:-0500
TZNAME:CDT
DTSTART:20250309T080000
END:DAYLIGHT
BEGIN:STANDARD
TZOFFSETFROM:-0500
TZOFFSETTO:-0600
TZNAME:CST
DTSTART:20251102T070000
END:STANDARD
BEGIN:DAYLIGHT
TZOFFSETFROM:-0600
TZOFFSETTO:-0500
TZNAME:CDT
DTSTART:20260308T080000
END:DAYLIGHT
BEGIN:STANDARD
TZOFFSETFROM:-0500
TZOFFSETTO:-0600
TZNAME:CST
DTSTART:20261101T070000
END:STANDARD
BEGIN:DAYLIGHT
TZOFFSETFROM:-0600
TZOFFSETTO:-0500
TZNAME:CDT
DTSTART:20270314T080000
END:DAYLIGHT
BEGIN:STANDARD
TZOFFSETFROM:-0500
TZOFFSETTO:-0600
TZNAME:CST
DTSTART:20271107T070000
END:STANDARD
END:VTIMEZONE
BEGIN:VEVENT
DTSTART;TZID=America/Chicago:20260425T110000
DTEND;TZID=America/Chicago:20260425T140000
DTSTAMP:20260423T171634
CREATED:20260331T165857Z
LAST-MODIFIED:20260331T165857Z
UID:20835-1777114800-1777125600@rosehillchamber.org
SUMMARY:SLOPPY JOE'S FUNDRAISER LUNCH
DESCRIPTION:SLOPPY JOE’S FUNDRAISER LUNCH \nRose Hill Senior Center\, Saturday\, April 25th\, 11am-2pm  \nSuggested Donation of $10 \nSTOP BY while you are out and about for a bite to eat.
URL:https://rosehillchamber.org/event/sloppy-joes-fundraiser-lunch/
LOCATION:Rose Hill Senior Center\, 217 E. Silknitter Street\, Rose Hill\, KS\, 67133\, United States
CATEGORIES:Community
ORGANIZER;CN="Rose Hill Senior Center":MAILTO:rosehill217@sbcglobal.net
END:VEVENT
BEGIN:VEVENT
DTSTART;TZID=America/Chicago:20260430T090000
DTEND;TZID=America/Chicago:20260430T140000
DTSTAMP:20260423T171634
CREATED:20260331T170728Z
LAST-MODIFIED:20260331T170728Z
UID:20837-1777539600-1777557600@rosehillchamber.org
SUMMARY:CENTER IS CLOSED - Spring Fling
DESCRIPTION:SPRING FLING is the largest event in Butler County focused on Seniors and their Caregivers. Spring Fling is always a great way to have fun while learning about services\, trends and opportunities for today’s Older Adults and Caregivers. The Butler County Department on Aging is looking forward to another successful year in 2026. The 2026 theme this year celebrates baseball. \nTHURSDAY\, APRIL 30th\, 2026 \n 9:00 a.m. to 2:00 p.m. \nTWO LOCATIONS IN EL DORADO \nCivic Center: 201 E. Central & Butler County Community Building: 206 N. Griffith
URL:https://rosehillchamber.org/event/center-is-closed-spring-fling/
LOCATION:El Dorado\, Civic Center & Community Building\, El Dorado\, Kansas\, 67042
CATEGORIES:Community
ORGANIZER;CN="Rose Hill Senior Center":MAILTO:rosehill217@sbcglobal.net
END:VEVENT
BEGIN:VEVENT
DTSTART;TZID=America/Chicago:20260501T110000
DTEND;TZID=America/Chicago:20260501T113000
DTSTAMP:20260423T171634
CREATED:20260422T204044Z
LAST-MODIFIED:20260422T204044Z
UID:20886-1777633200-1777635000@rosehillchamber.org
SUMMARY:Member/Community Meeting
DESCRIPTION:There will be a potluck lunch served at 12 noon and if you plan to join us\, please bring a side dish or dessert to share. We hope to see you there.
URL:https://rosehillchamber.org/event/member-community-meeting/
LOCATION:Rose Hill Senior Center\, 217 E. Silknitter Street\, Rose Hill\, KS\, 67133\, United States
CATEGORIES:Community
ORGANIZER;CN="Rose Hill Senior Center":MAILTO:rosehill217@sbcglobal.net
END:VEVENT
BEGIN:VEVENT
DTSTART;TZID=America/Chicago:20260501T113000
DTEND;TZID=America/Chicago:20260501T120000
DTSTAMP:20260423T171634
CREATED:20260422T204447Z
LAST-MODIFIED:20260422T204447Z
UID:20888-1777635000-1777636800@rosehillchamber.org
SUMMARY:Guest Speaker - Mayor Schantz
DESCRIPTION:SPECIAL GUEST SPEAKER – MAYOR Jeanine Schantz
URL:https://rosehillchamber.org/event/guest-speaker-mayor-schantz/
LOCATION:Rose Hill Senior Center\, 217 E. Silknitter Street\, Rose Hill\, KS\, 67133\, United States
CATEGORIES:Community
ORGANIZER;CN="Rose Hill Senior Center":MAILTO:rosehill217@sbcglobal.net
END:VEVENT
BEGIN:VEVENT
DTSTART;TZID=America/Chicago:20260507T183000
DTEND;TZID=America/Chicago:20260507T193000
DTSTAMP:20260423T171634
CREATED:20260423T140136Z
LAST-MODIFIED:20260423T140136Z
UID:20896-1778178600-1778182200@rosehillchamber.org
SUMMARY:BUNCO
DESCRIPTION:BUNCO \nA lively\, social dice game typically played with 12 players\, divided into groups of four\, aiming to score points by rolling specific combinations of dice.
URL:https://rosehillchamber.org/event/bunco-2/
LOCATION:Rose Hill Senior Center\, 217 E. Silknitter Street\, Rose Hill\, KS\, 67133\, United States
CATEGORIES:Community
ORGANIZER;CN="Rose Hill Senior Center":MAILTO:rosehill217@sbcglobal.net
END:VEVENT
BEGIN:VEVENT
DTSTART;TZID=America/Chicago:20260515T130000
DTEND;TZID=America/Chicago:20260515T140000
DTSTAMP:20260423T171634
CREATED:20260423T135533Z
LAST-MODIFIED:20260423T140248Z
UID:20894-1778850000-1778853600@rosehillchamber.org
SUMMARY:BINGO
DESCRIPTION:3rd Friday’s Lunch & Bingo          \nCome join us for lunch of Chicken & Noodles\, Mashed Potatoes and Baby Carrots\, Salad\, Dessert and a Drink for a suggested donation of $8 at the center on Friday\, May 15th at 12 noon. Bingo begins at 1pm following lunch. Please plan to join us.
URL:https://rosehillchamber.org/event/bingo-2/
LOCATION:Rose Hill Senior Center\, 217 E. Silknitter Street\, Rose Hill\, KS\, 67133\, United States
CATEGORIES:Community
ORGANIZER;CN="Rose Hill Senior Center":MAILTO:rosehill217@sbcglobal.net
END:VEVENT
BEGIN:VEVENT
DTSTART;TZID=America/Chicago:20260521T120000
DTEND;TZID=America/Chicago:20260521T130000
DTSTAMP:20260423T171634
CREATED:20260422T204733Z
LAST-MODIFIED:20260422T204733Z
UID:20890-1779364800-1779368400@rosehillchamber.org
SUMMARY:AED (Automated External Defibrillator) Class
DESCRIPTION:AED CLASS
URL:https://rosehillchamber.org/event/aed-automated-external-defibrillator-class/
LOCATION:Rose Hill Senior Center\, 217 E. Silknitter Street\, Rose Hill\, KS\, 67133\, United States
CATEGORIES:Community
ORGANIZER;CN="Rose Hill Senior Center":MAILTO:rosehill217@sbcglobal.net
END:VEVENT
BEGIN:VEVENT
DTSTART;TZID=America/Chicago:20260522T170000
DTEND;TZID=America/Chicago:20260522T190000
DTSTAMP:20260423T171634
CREATED:20260422T205044Z
LAST-MODIFIED:20260422T205044Z
UID:20892-1779469200-1779476400@rosehillchamber.org
SUMMARY:Monterey Supper Fundraiser
DESCRIPTION:Supper includes taco shell\, seasoned meat\, refried beans\, shredded cheese\, sour cream\, olives\, onions and salsa\, dessert and beverages. \nSuggested Donation $10.00 \n 
URL:https://rosehillchamber.org/event/monterey-supper-fundraiser/
LOCATION:Rose Hill Senior Center\, 217 E. Silknitter Street\, Rose Hill\, KS\, 67133\, United States
CATEGORIES:Community
ORGANIZER;CN="Rose Hill Senior Center":MAILTO:rosehill217@sbcglobal.net
END:VEVENT
BEGIN:VEVENT
DTSTART;VALUE=DATE:20260525
DTEND;VALUE=DATE:20260526
DTSTAMP:20260423T171634
CREATED:20260423T141746Z
LAST-MODIFIED:20260423T141842Z
UID:20918-1779667200-1779753599@rosehillchamber.org
SUMMARY:Memorial Day - CLOSED
DESCRIPTION:Memorial Day – CLOSED
URL:https://rosehillchamber.org/event/memorial-day-closed-monday-may-25-2026/
LOCATION:Rose Hill Senior Center\, 217 E. Silknitter Street\, Rose Hill\, KS\, 67133\, United States
CATEGORIES:Community
ORGANIZER;CN="Rose Hill Senior Center":MAILTO:rosehill217@sbcglobal.net
END:VEVENT
END:VCALENDAR